BEGIN:VCALENDAR
VERSION:2.0
PRODID:-//Freie Waldorfschule Krefeld - ECPv6.15.20//NONSGML v1.0//EN
CALSCALE:GREGORIAN
METHOD:PUBLISH
X-WR-CALNAME:Freie Waldorfschule Krefeld
X-ORIGINAL-URL:https://waldorfschule-krefeld.de
X-WR-CALDESC:Veranstaltungen für Freie Waldorfschule Krefeld
REFRESH-INTERVAL;VALUE=DURATION:PT1H
X-Robots-Tag:noindex
X-PUBLISHED-TTL:PT1H
BEGIN:VTIMEZONE
TZID:Europe/Berlin
BEGIN:DAYLIGHT
TZOFFSETFROM:+0100
TZOFFSETTO:+0200
TZNAME:CEST
DTSTART:20250330T010000
END:DAYLIGHT
BEGIN:STANDARD
TZOFFSETFROM:+0200
TZOFFSETTO:+0100
TZNAME:CET
DTSTART:20251026T010000
END:STANDARD
BEGIN:DAYLIGHT
TZOFFSETFROM:+0100
TZOFFSETTO:+0200
TZNAME:CEST
DTSTART:20260329T010000
END:DAYLIGHT
BEGIN:STANDARD
TZOFFSETFROM:+0200
TZOFFSETTO:+0100
TZNAME:CET
DTSTART:20261025T010000
END:STANDARD
BEGIN:DAYLIGHT
TZOFFSETFROM:+0100
TZOFFSETTO:+0200
TZNAME:CEST
DTSTART:20270328T010000
END:DAYLIGHT
BEGIN:STANDARD
TZOFFSETFROM:+0200
TZOFFSETTO:+0100
TZNAME:CET
DTSTART:20271031T010000
END:STANDARD
END:VTIMEZONE
BEGIN:VEVENT
DTSTART;VALUE=DATE:20260420
DTEND;VALUE=DATE:20260425
DTSTAMP:20260424T104513
CREATED:20260316T100819Z
LAST-MODIFIED:20260316T100819Z
UID:5563-1776643200-1777075199@waldorfschule-krefeld.de
SUMMARY:Klassenfahrt Kl. 5a Windeck-Rosbach
DESCRIPTION:
URL:https://waldorfschule-krefeld.de/event/klassenfahrt-kl-5a-windeck-rosbach/
END:VEVENT
BEGIN:VEVENT
DTSTART;TZID=Europe/Berlin:20260427T193000
DTEND;TZID=Europe/Berlin:20260427T193000
DTSTAMP:20260424T104513
CREATED:20260413T090656Z
LAST-MODIFIED:20260413T090915Z
UID:5603-1777318200-1777318200@waldorfschule-krefeld.de
SUMMARY:Elternabend Kl. 1b
DESCRIPTION:
URL:https://waldorfschule-krefeld.de/event/elternabend-kl-1b-3/
END:VEVENT
BEGIN:VEVENT
DTSTART;TZID=Europe/Berlin:20260429T100000
DTEND;TZID=Europe/Berlin:20260429T100000
DTSTAMP:20260424T104513
CREATED:20251112T101755Z
LAST-MODIFIED:20260225T111151Z
UID:5262-1777456800-1777456800@waldorfschule-krefeld.de
SUMMARY:Klassenvorführung "Der goldene Vogel" - Theater der Dämmerung
DESCRIPTION:
URL:https://waldorfschule-krefeld.de/event/klassenvorfuehrung-kl-3-6-der-goldene-vogel-theater-der-daemmerung/
END:VEVENT
BEGIN:VEVENT
DTSTART;TZID=Europe/Berlin:20260429T190000
DTEND;TZID=Europe/Berlin:20260429T190000
DTSTAMP:20260424T104513
CREATED:20251112T102423Z
LAST-MODIFIED:20251112T102423Z
UID:5266-1777489200-1777489200@waldorfschule-krefeld.de
SUMMARY:Familienaufführung "Der kleine Prinz" - Theater der Dämmerung
DESCRIPTION:Aufführung für Jugendliche und Erwachsene \n  \n 
URL:https://waldorfschule-krefeld.de/event/familienauffuehrung-der-kleine-prinz-theater-der-daemmerung/
END:VEVENT
BEGIN:VEVENT
DTSTART;VALUE=DATE:20260430
DTEND;VALUE=DATE:20260501
DTSTAMP:20260424T104513
CREATED:20260226T094520Z
LAST-MODIFIED:20260226T094520Z
UID:5533-1777507200-1777593599@waldorfschule-krefeld.de
SUMMARY:Aktion Toter Winkel (Polizei Krefeld) Kl. 5a + 5b
DESCRIPTION:
URL:https://waldorfschule-krefeld.de/event/aktion-toter-winkel-polizei-krefeld-kl-5a-5b/
END:VEVENT
BEGIN:VEVENT
DTSTART;VALUE=DATE:20260501
DTEND;VALUE=DATE:20260502
DTSTAMP:20260424T104513
CREATED:20250717T130417Z
LAST-MODIFIED:20250717T130417Z
UID:4976-1777593600-1777679999@waldorfschule-krefeld.de
SUMMARY:Tag der Arbeit - Feiertag
DESCRIPTION:
URL:https://waldorfschule-krefeld.de/event/tag-der-arbeit-feiertag/
END:VEVENT
BEGIN:VEVENT
DTSTART;VALUE=DATE:20260505
DTEND;VALUE=DATE:20260506
DTSTAMP:20260424T104513
CREATED:20260415T101304Z
LAST-MODIFIED:20260415T101304Z
UID:5621-1777939200-1778025599@waldorfschule-krefeld.de
SUMMARY:Ausflug Umweltzentrum Kl. 5b
DESCRIPTION:
URL:https://waldorfschule-krefeld.de/event/ausflug-umweltzentrum-kl-5b/
END:VEVENT
BEGIN:VEVENT
DTSTART;TZID=Europe/Berlin:20260505T183000
DTEND;TZID=Europe/Berlin:20260505T183000
DTSTAMP:20260424T104513
CREATED:20260226T094254Z
LAST-MODIFIED:20260407T095308Z
UID:5526-1778005800-1778005800@waldorfschule-krefeld.de
SUMMARY:Elternabend Medien & Gewaltprävention Kl. 3a\, 4a\, 5a\, 5b\, 6a - WIRD VERSCHOBEN!
DESCRIPTION:
URL:https://waldorfschule-krefeld.de/event/elternabend-medien-gewaltpraevention-kl-3a-4a-5a-5b-6a/
END:VEVENT
BEGIN:VEVENT
DTSTART;TZID=Europe/Berlin:20260505T190000
DTEND;TZID=Europe/Berlin:20260505T190000
DTSTAMP:20260424T104513
CREATED:20260414T055100Z
LAST-MODIFIED:20260414T055100Z
UID:5606-1778007600-1778007600@waldorfschule-krefeld.de
SUMMARY:Elternabend 8a
DESCRIPTION:
URL:https://waldorfschule-krefeld.de/event/elternabend-8a/
END:VEVENT
BEGIN:VEVENT
DTSTART;TZID=Europe/Berlin:20260505T190000
DTEND;TZID=Europe/Berlin:20260505T190000
DTSTAMP:20260424T104513
CREATED:20260415T101232Z
LAST-MODIFIED:20260415T101232Z
UID:5619-1778007600-1778007600@waldorfschule-krefeld.de
SUMMARY:Elternabend Kl. 5b
DESCRIPTION:
URL:https://waldorfschule-krefeld.de/event/elternabend-kl-5b-7/
END:VEVENT
BEGIN:VEVENT
DTSTART;TZID=Europe/Berlin:20260506T193000
DTEND;TZID=Europe/Berlin:20260506T193000
DTSTAMP:20260424T104513
CREATED:20260302T115312Z
LAST-MODIFIED:20260302T115312Z
UID:5538-1778095800-1778095800@waldorfschule-krefeld.de
SUMMARY:Elternforum
DESCRIPTION:
URL:https://waldorfschule-krefeld.de/event/elternforum-23/
LOCATION:Alter Eurythmiesaal\, Flügel Tiergartenstr.
END:VEVENT
BEGIN:VEVENT
DTSTART;VALUE=DATE:20260514
DTEND;VALUE=DATE:20260515
DTSTAMP:20260424T104513
CREATED:20250717T130448Z
LAST-MODIFIED:20250717T130448Z
UID:4978-1778716800-1778803199@waldorfschule-krefeld.de
SUMMARY:Christi Himmelfahrt - Feiertag
DESCRIPTION:
URL:https://waldorfschule-krefeld.de/event/christi-himmelfahrt-feiertag-2/
END:VEVENT
BEGIN:VEVENT
DTSTART;VALUE=DATE:20260515
DTEND;VALUE=DATE:20260516
DTSTAMP:20260424T104513
CREATED:20250717T130519Z
LAST-MODIFIED:20250915T095437Z
UID:4980-1778803200-1778889599@waldorfschule-krefeld.de
SUMMARY:Ausgleichstag für Pädagogischen Tag - Schulfrei
DESCRIPTION:
URL:https://waldorfschule-krefeld.de/event/ausgleichstag-tag-der-offenen-tuer-schulfrei/
END:VEVENT
BEGIN:VEVENT
DTSTART;TZID=Europe/Berlin:20260518T193000
DTEND;TZID=Europe/Berlin:20260518T193000
DTSTAMP:20260424T104513
CREATED:20260420T091642Z
LAST-MODIFIED:20260420T091642Z
UID:5625-1779132600-1779132600@waldorfschule-krefeld.de
SUMMARY:Elternabend Wirtschaftliche Gestalt der Schule
DESCRIPTION:Für neue und zukünftige Eltern
URL:https://waldorfschule-krefeld.de/event/elternabend-wirtschaftliche-gestalt-der-schule/
LOCATION:Mensa
END:VEVENT
BEGIN:VEVENT
DTSTART;VALUE=DATE:20260521
DTEND;VALUE=DATE:20260522
DTSTAMP:20260424T104513
CREATED:20260303T112312Z
LAST-MODIFIED:20260303T112322Z
UID:5550-1779321600-1779407999@waldorfschule-krefeld.de
SUMMARY:Ausflug Aquazoo Kl. 4b
DESCRIPTION:
URL:https://waldorfschule-krefeld.de/event/ausflug-aquazoo-kl-4b/
END:VEVENT
BEGIN:VEVENT
DTSTART;TZID=Europe/Berlin:20260521T100000
DTEND;TZID=Europe/Berlin:20260522T113000
DTSTAMP:20260424T104513
CREATED:20251029T105450Z
LAST-MODIFIED:20251029T105450Z
UID:5240-1779357600-1779449400@waldorfschule-krefeld.de
SUMMARY:Klassenspiel Klasse 12 - Die Physiker (interne Aufführung)
DESCRIPTION:
URL:https://waldorfschule-krefeld.de/event/klassenspiel-klasse-12-die-physiker-interne-auffuehrung/
LOCATION:Schulaula
END:VEVENT
BEGIN:VEVENT
DTSTART;TZID=Europe/Berlin:20260521T190000
DTEND;TZID=Europe/Berlin:20260521T203000
DTSTAMP:20260424T104513
CREATED:20251029T105144Z
LAST-MODIFIED:20251029T105144Z
UID:5236-1779390000-1779395400@waldorfschule-krefeld.de
SUMMARY:Klassenspiel Klasse 12 - Die Physiker
DESCRIPTION:
URL:https://waldorfschule-krefeld.de/event/klassenspiel-klasse-12-die-physiker/
LOCATION:Schulaula
END:VEVENT
BEGIN:VEVENT
DTSTART;TZID=Europe/Berlin:20260522T190000
DTEND;TZID=Europe/Berlin:20260522T203000
DTSTAMP:20260424T104513
CREATED:20251029T105226Z
LAST-MODIFIED:20251029T105226Z
UID:5238-1779476400-1779481800@waldorfschule-krefeld.de
SUMMARY:Klassenspiel Klasse 12 - Die Physiker
DESCRIPTION:
URL:https://waldorfschule-krefeld.de/event/klassenspiel-klasse-12-die-physiker-2/
LOCATION:Schulaula
END:VEVENT
BEGIN:VEVENT
DTSTART;VALUE=DATE:20260525
DTEND;VALUE=DATE:20260526
DTSTAMP:20260424T104513
CREATED:20250717T130555Z
LAST-MODIFIED:20250717T130555Z
UID:4982-1779667200-1779753599@waldorfschule-krefeld.de
SUMMARY:Pfingstmontag - Feiertag
DESCRIPTION:
URL:https://waldorfschule-krefeld.de/event/pfingstmontag-feiertag-2/
END:VEVENT
BEGIN:VEVENT
DTSTART;VALUE=DATE:20260526
DTEND;VALUE=DATE:20260527
DTSTAMP:20260424T104513
CREATED:20250717T130626Z
LAST-MODIFIED:20250717T130626Z
UID:4984-1779753600-1779839999@waldorfschule-krefeld.de
SUMMARY:Pfingstferien
DESCRIPTION:
URL:https://waldorfschule-krefeld.de/event/pfingstferien-3/
END:VEVENT
BEGIN:VEVENT
DTSTART;VALUE=DATE:20260601
DTEND;VALUE=DATE:20260604
DTSTAMP:20260424T104513
CREATED:20250717T130654Z
LAST-MODIFIED:20250717T130654Z
UID:4986-1780272000-1780531199@waldorfschule-krefeld.de
SUMMARY:Orchesterfahrt
DESCRIPTION:
URL:https://waldorfschule-krefeld.de/event/orchesterfahrt-2/
END:VEVENT
BEGIN:VEVENT
DTSTART;TZID=Europe/Berlin:20260603T193000
DTEND;TZID=Europe/Berlin:20260603T193000
DTSTAMP:20260424T104513
CREATED:20260302T115338Z
LAST-MODIFIED:20260302T115338Z
UID:5540-1780515000-1780515000@waldorfschule-krefeld.de
SUMMARY:Elternforum
DESCRIPTION:
URL:https://waldorfschule-krefeld.de/event/elternforum-24/
LOCATION:Alter Eurythmiesaal\, Flügel Tiergartenstr.
END:VEVENT
BEGIN:VEVENT
DTSTART;VALUE=DATE:20260604
DTEND;VALUE=DATE:20260605
DTSTAMP:20260424T104513
CREATED:20250717T130729Z
LAST-MODIFIED:20250717T130729Z
UID:4988-1780531200-1780617599@waldorfschule-krefeld.de
SUMMARY:Fronleichnam - Feiertag
DESCRIPTION:
URL:https://waldorfschule-krefeld.de/event/fronleichnam-feiertag-2/
END:VEVENT
BEGIN:VEVENT
DTSTART;VALUE=DATE:20260605
DTEND;VALUE=DATE:20260606
DTSTAMP:20260424T104513
CREATED:20250717T130803Z
LAST-MODIFIED:20250717T130803Z
UID:4990-1780617600-1780703999@waldorfschule-krefeld.de
SUMMARY:Ausgleichstag Adventmarkt - Schulfrei
DESCRIPTION:
URL:https://waldorfschule-krefeld.de/event/ausgleichstag-adventmarkt-schulfrei/
END:VEVENT
BEGIN:VEVENT
DTSTART;TZID=Europe/Berlin:20260612T190000
DTEND;TZID=Europe/Berlin:20260612T190000
DTSTAMP:20260424T104513
CREATED:20250717T131058Z
LAST-MODIFIED:20260320T070629Z
UID:4993-1781290800-1781290800@waldorfschule-krefeld.de
SUMMARY:Sommerkonzert
DESCRIPTION:
URL:https://waldorfschule-krefeld.de/event/sommerkonzert-4/
END:VEVENT
BEGIN:VEVENT
DTSTART;VALUE=DATE:20260618
DTEND;VALUE=DATE:20260619
DTSTAMP:20260424T104513
CREATED:20250717T131124Z
LAST-MODIFIED:20250717T131124Z
UID:4995-1781740800-1781827199@waldorfschule-krefeld.de
SUMMARY:Abschluss Differenzierte Oberstufe
DESCRIPTION:
URL:https://waldorfschule-krefeld.de/event/abschluss-differenzierte-oberstufe/
END:VEVENT
BEGIN:VEVENT
DTSTART;TZID=Europe/Berlin:20260619T163000
DTEND;TZID=Europe/Berlin:20260619T163000
DTSTAMP:20260424T104513
CREATED:20260226T094422Z
LAST-MODIFIED:20260226T094422Z
UID:5530-1781886600-1781886600@waldorfschule-krefeld.de
SUMMARY:Klassenfest Kl. 5b
DESCRIPTION:
URL:https://waldorfschule-krefeld.de/event/klassenfest-kl-5b/
LOCATION:Kleiner Schulhof
END:VEVENT
BEGIN:VEVENT
DTSTART;VALUE=DATE:20260622
DTEND;VALUE=DATE:20260623
DTSTAMP:20260424T104513
CREATED:20250717T131149Z
LAST-MODIFIED:20250717T131149Z
UID:4997-1782086400-1782172799@waldorfschule-krefeld.de
SUMMARY:Mitarbeiterausflug - Schulfrei
DESCRIPTION:
URL:https://waldorfschule-krefeld.de/event/mitarbeiterausflug-schulfrei/
END:VEVENT
BEGIN:VEVENT
DTSTART;VALUE=DATE:20260622
DTEND;VALUE=DATE:20260627
DTSTAMP:20260424T104513
CREATED:20250901T085334Z
LAST-MODIFIED:20250901T085334Z
UID:5047-1782086400-1782518399@waldorfschule-krefeld.de
SUMMARY:Klassenfahrt Kl. 7a
DESCRIPTION:
URL:https://waldorfschule-krefeld.de/event/klassenfahrt-kl-7a/
END:VEVENT
BEGIN:VEVENT
DTSTART;VALUE=DATE:20260630
DTEND;VALUE=DATE:20260701
DTSTAMP:20260424T104513
CREATED:20250717T131237Z
LAST-MODIFIED:20250717T131237Z
UID:5000-1782777600-1782863999@waldorfschule-krefeld.de
SUMMARY:Sportfest
DESCRIPTION:
URL:https://waldorfschule-krefeld.de/event/sportfest-2/
END:VEVENT
END:VCALENDAR